BEGIN:VCALENDAR
VERSION:2.0
PRODID:-//ACT School Term Dates 2013 - 2015//NONSGML v1.0//EN

BEGIN:VTIMEZONE
TZID:Australia/Sydney

BEGIN:STANDARD
TZOFFSETFROM:+1100
RRULE:FREQ=YEARLY;BYMONTH=4;BYDAY=1SU
DTSTART:20080406T030000
TZNAME:AEST
TZOFFSETTO:+1000
END:STANDARD

BEGIN:DAYLIGHT
TZOFFSETFROM:+1000
RRULE:FREQ=YEARLY;BYMONTH=10;BYDAY=1SU
DTSTART:20081005T020000
TZNAME:AEDT
TZOFFSETTO:+1100
END:DAYLIGHT

END:VTIMEZONE

BEGIN:VEVENT
DTSTART;TZID=Australia/Sydney:20190611T085000
DTEND;TZID=Australia/Sydney:20190611T150000
SUMMARY:Year 5/6 Democracy Excursion
END:VEVENT


BEGIN:VEVENT
DTSTART;TZID=Australia/Sydney:20190703T093000
DTEND;TZID=Australia/Sydney:20190703T141500
SUMMARY:Year 1/2 National Arboretum Excursion
END:VEVENT


BEGIN:VEVENT
DTSTART;TZID=Australia/Sydney:20190801T000000
DTEND;TZID=Australia/Sydney:20190801T000000
SUMMARY:Sun smart hats back on
END:VEVENT


BEGIN:VEVENT
DTSTART;TZID=Australia/Sydney:20190801T000000
DTEND;TZID=Australia/Sydney:20190801T000000
SUMMARY:Year 3/4 Touch Football day
END:VEVENT


BEGIN:VEVENT
DTSTART;TZID=Australia/Sydney:20190809T091500
DTEND;TZID=Australia/Sydney:20190809T144500
SUMMARY:Limelight rehearsal
END:VEVENT


BEGIN:VEVENT
DTSTART;TZID=Australia/Sydney:20190816T000000
DTEND;TZID=Australia/Sydney:20190816T000000
SUMMARY:P&amp;C Disco
END:VEVENT


BEGIN:VEVENT
DTSTART;TZID=Australia/Sydney:20190827T095000
DTEND;TZID=Australia/Sydney:20190827T115000
SUMMARY:Limelight technical rehearsal
END:VEVENT


BEGIN:VEVENT
DTSTART;TZID=Australia/Sydney:20190830T091500
DTEND;TZID=Australia/Sydney:20190830T144500
SUMMARY:Limelight dress rehearsal
END:VEVENT


BEGIN:VEVENT
DTSTART;TZID=Australia/Sydney:20190830T153000
DTEND;TZID=Australia/Sydney:20190830T153000
SUMMARY:Limelight performance
END:VEVENT


BEGIN:VEVENT
DTSTART;TZID=Australia/Sydney:20190905T000000
DTEND;TZID=Australia/Sydney:20190905T000000
SUMMARY:Theatre excursion - Possum Magic
END:VEVENT


BEGIN:VEVENT
DTSTART;TZID=Australia/Sydney:20190906T000000
DTEND;TZID=Australia/Sydney:20190906T000000
SUMMARY:Theatre Excursion - Possum Magic
END:VEVENT


BEGIN:VEVENT
DTSTART;TZID=Australia/Sydney:20190919T153000
DTEND;TZID=Australia/Sydney:20190919T170000
SUMMARY:Learning Journeys
END:VEVENT


BEGIN:VEVENT
DTSTART;TZID=Australia/Sydney:20190919T170000
DTEND;TZID=Australia/Sydney:20190919T180000
SUMMARY:Reading Hour
END:VEVENT


BEGIN:VEVENT
DTSTART;TZID=Australia/Sydney:20190927T000000
DTEND;TZID=Australia/Sydney:20190927T000000
SUMMARY:Last day of term 3
END:VEVENT


BEGIN:VEVENT
DTSTART;TZID=Australia/Sydney:20191023T090000
DTEND;TZID=Australia/Sydney:20191025T150000
SUMMARY:Camp Cooba Year 5/6
END:VEVENT


BEGIN:VEVENT
DTSTART;TZID=Australia/Sydney:20191107T000000
DTEND;TZID=Australia/Sydney:20191108T000000
SUMMARY:Camp Warrambui
END:VEVENT


BEGIN:VEVENT
DTSTART;TZID=Australia/Sydney:20191104T000000
DTEND;TZID=Australia/Sydney:20191108T000000
SUMMARY:Aqua Safe program - Year 2 students
END:VEVENT


BEGIN:VEVENT
DTSTART;TZID=Australia/Sydney:20191030T183000
DTEND;TZID=Australia/Sydney:20191030T183000
SUMMARY:P &amp; C meeting
END:VEVENT


BEGIN:VEVENT
DTSTART;TZID=Australia/Sydney:20191016T000000
DTEND;TZID=Australia/Sydney:20191016T000000
SUMMARY:Assembly hosted by Yurwan, Jooba &amp; Tamariki
END:VEVENT


BEGIN:VEVENT
DTSTART;TZID=Australia/Sydney:20191030T000000
DTEND;TZID=Australia/Sydney:20191030T000000
SUMMARY:Assembly hosted by school captains
END:VEVENT


BEGIN:VEVENT
DTSTART;TZID=Australia/Sydney:20191113T000000
DTEND;TZID=Australia/Sydney:20191113T000000
SUMMARY:Assembly - Remembrance Day
END:VEVENT


BEGIN:VEVENT
DTSTART;TZID=Australia/Sydney:20191127T000000
DTEND;TZID=Australia/Sydney:20191127T000000
SUMMARY:Assembly hosted by Year 5 &amp; 6 Bands
END:VEVENT


BEGIN:VEVENT
DTSTART;TZID=Australia/Sydney:20191218T000000
DTEND;TZID=Australia/Sydney:20191218T000000
SUMMARY:Year 6 Fun day
END:VEVENT


BEGIN:VEVENT
DTSTART;TZID=Australia/Sydney:20191217T000000
DTEND;TZID=Australia/Sydney:20191217T000000
SUMMARY:Year 6 Farewell assembly
END:VEVENT


BEGIN:VEVENT
DTSTART;TZID=Australia/Sydney:20191217T000000
DTEND;TZID=Australia/Sydney:20191217T000000
SUMMARY:Year 6 Farewell dinner
END:VEVENT


BEGIN:VEVENT
DTSTART;TZID=Australia/Sydney:20191119T000000
DTEND;TZID=Australia/Sydney:20191119T000000
SUMMARY:Bandstravaganza - Year 5 &amp; 6 bands
END:VEVENT


BEGIN:VEVENT
DTSTART;TZID=Australia/Sydney:20191028T000000
DTEND;TZID=Australia/Sydney:20191028T000000
SUMMARY:Super Funky Artist Workshop - kindergarten
END:VEVENT


BEGIN:VEVENT
DTSTART;TZID=Australia/Sydney:20191028T000000
DTEND;TZID=Australia/Sydney:20191101T000000
SUMMARY:Ride safe to school week
END:VEVENT


BEGIN:VEVENT
DTSTART;TZID=Australia/Sydney:20191025T000000
DTEND;TZID=Australia/Sydney:20191025T000000
SUMMARY:Grandfriends' Day
END:VEVENT


BEGIN:VEVENT
DTSTART;TZID=Australia/Sydney:20191219T000000
DTEND;TZID=Australia/Sydney:20191219T000000
SUMMARY:Last day of Term 4
END:VEVENT


BEGIN:VEVENT
DTSTART;TZID=Australia/Sydney:20191029T000000
DTEND;TZID=Australia/Sydney:20191101T000000
SUMMARY:Scholastic Book Fair
END:VEVENT


BEGIN:VEVENT
DTSTART;TZID=Australia/Sydney:20191101T000000
DTEND;TZID=Australia/Sydney:20191101T000000
SUMMARY:Year 1/2 National Gallery Excursion
END:VEVENT


BEGIN:VEVENT
DTSTART;TZID=Australia/Sydney:20191105T111500
DTEND;TZID=Australia/Sydney:20191105T111500
SUMMARY:Meup Meup Swimming Lessons
END:VEVENT


BEGIN:VEVENT
DTSTART;TZID=Australia/Sydney:20191112T111500
DTEND;TZID=Australia/Sydney:20191112T111500
SUMMARY:Meup Meup Swimming Lessons
END:VEVENT


BEGIN:VEVENT
DTSTART;TZID=Australia/Sydney:20191119T111500
DTEND;TZID=Australia/Sydney:20191119T111500
SUMMARY:Meup Meup Swimming Lessons
END:VEVENT


BEGIN:VEVENT
DTSTART;TZID=Australia/Sydney:20191126T111500
DTEND;TZID=Australia/Sydney:20191126T111500
SUMMARY:Meup Meup Swimming Lessons
END:VEVENT


BEGIN:VEVENT
DTSTART;TZID=Australia/Sydney:20191203T111500
DTEND;TZID=Australia/Sydney:20191203T111500
SUMMARY:Meup Meup Swimming Lessons
END:VEVENT


BEGIN:VEVENT
DTSTART;TZID=Australia/Sydney:20191210T111500
DTEND;TZID=Australia/Sydney:20191210T111500
SUMMARY:Meup Meup Swimming Lessons
END:VEVENT


BEGIN:VEVENT
DTSTART;TZID=Australia/Sydney:20191118T091500
DTEND;TZID=Australia/Sydney:20191118T091500
SUMMARY:Bandstrav Practice at Farrer Primary School
END:VEVENT


BEGIN:VEVENT
DTSTART;TZID=Australia/Sydney:20191128T093000
DTEND;TZID=Australia/Sydney:20191128T093000
SUMMARY:Preschool Excursion to Markets
END:VEVENT


BEGIN:VEVENT
DTSTART;TZID=Australia/Sydney:20191127T093000
DTEND;TZID=Australia/Sydney:20191127T093000
SUMMARY:Preschool Excursion to Markets
END:VEVENT


BEGIN:VEVENT
DTSTART;TZID=Australia/Sydney:20191122T173000
DTEND;TZID=Australia/Sydney:20191122T173000
SUMMARY:P&amp;C Trivia Night
END:VEVENT


BEGIN:VEVENT
DTSTART;TZID=Australia/Sydney:20191206T090000
DTEND;TZID=Australia/Sydney:20191206T090000
SUMMARY:Year 3/4 &amp; Meup Meup Mt Painter Walk
END:VEVENT


BEGIN:VEVENT
DTSTART;TZID=Australia/Sydney:20200226T000000
DTEND;TZID=Australia/Sydney:20200226T000000
SUMMARY:Eucalypts excursion to the Hall School Museum and Heritage Centre
END:VEVENT


BEGIN:VEVENT
DTSTART;TZID=Australia/Sydney:20200228T000000
DTEND;TZID=Australia/Sydney:20200228T000000
SUMMARY:Eucalypts excursion to the Hall School Museum and Heritage Centre
END:VEVENT


BEGIN:VEVENT
DTSTART;TZID=Australia/Sydney:20200305T000000
DTEND;TZID=Australia/Sydney:20200305T000000
SUMMARY:Swimming Carnival
END:VEVENT


BEGIN:VEVENT
DTSTART;TZID=Australia/Sydney:20200407T000000
DTEND;TZID=Australia/Sydney:20200407T000000
SUMMARY:Kindergarten Excursion to Mt Painter
END:VEVENT


BEGIN:VEVENT
DTSTART;TZID=Australia/Sydney:20190204T000000
DTEND;TZID=Australia/Sydney:20190204T000000
SUMMARY:Term 1 Begins - new students start school  
END:VEVENT


BEGIN:VEVENT
DTSTART;TZID=Australia/Sydney:20190205T000000
DTEND;TZID=Australia/Sydney:20190205T000000
SUMMARY:Term 1 Begins - continuing students return  
END:VEVENT


BEGIN:VEVENT
DTSTART;TZID=Australia/Sydney:20190412T000000
DTEND;TZID=Australia/Sydney:20190412T000000
SUMMARY:Term 1  - Ends
END:VEVENT


BEGIN:VEVENT
DTSTART;TZID=Australia/Sydney:20190429T000000
DTEND;TZID=Australia/Sydney:20190429T000000
SUMMARY:Term 2 - Begins
END:VEVENT


BEGIN:VEVENT
DTSTART;TZID=Australia/Sydney:20190705T000000
DTEND;TZID=Australia/Sydney:20190706T000000
SUMMARY:Term 2 - Ends
END:VEVENT


BEGIN:VEVENT
DTSTART;TZID=Australia/Sydney:20190722T000000
DTEND;TZID=Australia/Sydney:20190722T000000
SUMMARY:Term 3 - Begins
END:VEVENT


BEGIN:VEVENT
DTSTART;TZID=Australia/Sydney:20190927T000000
DTEND;TZID=Australia/Sydney:20190927T000000
SUMMARY:Term 3 - Ends
END:VEVENT


BEGIN:VEVENT
DTSTART;TZID=Australia/Sydney:20191014T000000
DTEND;TZID=Australia/Sydney:20191014T000000
SUMMARY:Term 4 - Begins
END:VEVENT


BEGIN:VEVENT
DTSTART;TZID=Australia/Sydney:20191219T000000
DTEND;TZID=Australia/Sydney:20191219T000000
SUMMARY:Term 4 - Ends
END:VEVENT


BEGIN:VEVENT
DTSTART;TZID=Australia/Sydney:20190101T000000
DTEND;TZID=Australia/Sydney:20190101T000000
SUMMARY:New Year's Day 
END:VEVENT


BEGIN:VEVENT
DTSTART;TZID=Australia/Sydney:20190128T000000
DTEND;TZID=Australia/Sydney:20190128T000000
SUMMARY:Public holiday for Australia Day Saturday 26 January        
END:VEVENT


BEGIN:VEVENT
DTSTART;TZID=Australia/Sydney:20190311T000000
DTEND;TZID=Australia/Sydney:20190311T000000
SUMMARY:Canberra Day 
END:VEVENT


BEGIN:VEVENT
DTSTART;TZID=Australia/Sydney:20190419T000000
DTEND;TZID=Australia/Sydney:20190419T000000
SUMMARY:Good Friday 
END:VEVENT


BEGIN:VEVENT
DTSTART;TZID=Australia/Sydney:20190420T000000
DTEND;TZID=Australia/Sydney:20190420T000000
SUMMARY:Easter Saturday  
END:VEVENT


BEGIN:VEVENT
DTSTART;TZID=Australia/Sydney:20190421T000000
DTEND;TZID=Australia/Sydney:20190421T000000
SUMMARY:Easter Sunday 
END:VEVENT


BEGIN:VEVENT
DTSTART;TZID=Australia/Sydney:20190422T000000
DTEND;TZID=Australia/Sydney:20190422T000000
SUMMARY:Easter Monday 
END:VEVENT


BEGIN:VEVENT
DTSTART;TZID=Australia/Sydney:20190425T000000
DTEND;TZID=Australia/Sydney:20190425T000000
SUMMARY:ANZAC Day 
END:VEVENT


BEGIN:VEVENT
DTSTART;TZID=Australia/Sydney:20190527T000000
DTEND;TZID=Australia/Sydney:20190527T000000
SUMMARY:Reconciliation Day 
END:VEVENT


BEGIN:VEVENT
DTSTART;TZID=Australia/Sydney:20190610T000000
DTEND;TZID=Australia/Sydney:20190610T000000
SUMMARY:Queen's Birthday  
END:VEVENT


BEGIN:VEVENT
DTSTART;TZID=Australia/Sydney:20191007T000000
DTEND;TZID=Australia/Sydney:20191007T000000
SUMMARY:Labour Day 
END:VEVENT


BEGIN:VEVENT
DTSTART;TZID=Australia/Sydney:20191225T000000
DTEND;TZID=Australia/Sydney:20191225T000000
SUMMARY:Christmas Day 
END:VEVENT


BEGIN:VEVENT
DTSTART;TZID=Australia/Sydney:20191226T000000
DTEND;TZID=Australia/Sydney:20191226T000000
SUMMARY:Boxing Day 
END:VEVENT


BEGIN:VEVENT
DTSTART;TZID=Australia/Sydney:20200203T000000
DTEND;TZID=Australia/Sydney:20200203T000000
SUMMARY:Term 1 - New students start school
END:VEVENT


BEGIN:VEVENT
DTSTART;TZID=Australia/Sydney:20200204T000000
DTEND;TZID=Australia/Sydney:20200204T000000
SUMMARY:Term 1 – Continuing students return to school 
END:VEVENT


BEGIN:VEVENT
DTSTART;TZID=Australia/Sydney:20200409T000000
DTEND;TZID=Australia/Sydney:20200409T000000
SUMMARY:Term 1 ends
END:VEVENT


BEGIN:VEVENT
DTSTART;TZID=Australia/Sydney:20200428T000000
DTEND;TZID=Australia/Sydney:20200428T000000
SUMMARY:Term 2 starts
END:VEVENT


BEGIN:VEVENT
DTSTART;TZID=Australia/Sydney:20200703T000000
DTEND;TZID=Australia/Sydney:20200703T000000
SUMMARY:Term 2 ends
END:VEVENT


BEGIN:VEVENT
DTSTART;TZID=Australia/Sydney:20200720T000000
DTEND;TZID=Australia/Sydney:20200720T000000
SUMMARY:Term 3 - starts
END:VEVENT


BEGIN:VEVENT
DTSTART;TZID=Australia/Sydney:20200925T000000
DTEND;TZID=Australia/Sydney:20200925T000000
SUMMARY:Term 3 - ends
END:VEVENT


BEGIN:VEVENT
DTSTART;TZID=Australia/Sydney:20201012T000000
DTEND;TZID=Australia/Sydney:20201012T000000
SUMMARY:Term 4 - starts
END:VEVENT


BEGIN:VEVENT
DTSTART;TZID=Australia/Sydney:20201218T000000
DTEND;TZID=Australia/Sydney:20201218T000000
SUMMARY:Term 4 - ends
END:VEVENT


BEGIN:VEVENT
DTSTART;TZID=Australia/Sydney:20200101T000000
DTEND;TZID=Australia/Sydney:20200101T000000
SUMMARY:New Year’s Day 
END:VEVENT


BEGIN:VEVENT
DTSTART;TZID=Australia/Sydney:20200127T000000
DTEND;TZID=Australia/Sydney:20200127T000000
SUMMARY:Australia Day
END:VEVENT


BEGIN:VEVENT
DTSTART;TZID=Australia/Sydney:20200309T000000
DTEND;TZID=Australia/Sydney:20200309T000000
SUMMARY:Canberra Day
END:VEVENT


BEGIN:VEVENT
DTSTART;TZID=Australia/Sydney:20200410T000000
DTEND;TZID=Australia/Sydney:20200410T000000
SUMMARY:Good Friday
END:VEVENT


BEGIN:VEVENT
DTSTART;TZID=Australia/Sydney:20200412T000000
DTEND;TZID=Australia/Sydney:20200412T000000
SUMMARY:Easter Sunday
END:VEVENT


BEGIN:VEVENT
DTSTART;TZID=Australia/Sydney:20200413T000000
DTEND;TZID=Australia/Sydney:20200413T000000
SUMMARY:Easter Monday
END:VEVENT


BEGIN:VEVENT
DTSTART;TZID=Australia/Sydney:20200425T000000
DTEND;TZID=Australia/Sydney:20200425T000000
SUMMARY:ANZAC Day 
END:VEVENT


BEGIN:VEVENT
DTSTART;TZID=Australia/Sydney:20200601T000000
DTEND;TZID=Australia/Sydney:20200601T000000
SUMMARY:Reconciliation Day
END:VEVENT


BEGIN:VEVENT
DTSTART;TZID=Australia/Sydney:20200608T000000
DTEND;TZID=Australia/Sydney:20200608T000000
SUMMARY:Queen’s Birthday 
END:VEVENT


BEGIN:VEVENT
DTSTART;TZID=Australia/Sydney:20201005T000000
DTEND;TZID=Australia/Sydney:20201005T000000
SUMMARY:Labour Day
END:VEVENT


BEGIN:VEVENT
DTSTART;TZID=Australia/Sydney:20201225T000000
DTEND;TZID=Australia/Sydney:20201225T000000
SUMMARY:Christmas Day 
END:VEVENT



END:VCALENDAR